BEGIN:VCALENDAR
VERSION:2.0
X-WR-CALNAME:Bradford School Calendar
X-WR-CALDESC:Ultranet Calendar for Bradford School Calendar.
X-PUBLISHED-TTL:PT05M
PRODID:-//Edtech\\\, //Ultranet 2.3.4//EN
X-APPLE-CALENDAR-COLOR:#0252D4
X-WR-TIMEZONE:Pacific/Auckland
X-WR-RELCALID:00000009-0000-0000-0000-000000000003
METHOD:PUBLISH
CALSCALE:GREGORIAN
X-CALSTART;TZID=Pacific/Auckland:20171223T000000
X-CALEND;TZID=Pacific/Auckland:20180221T000000
BEGIN:VTIMEZONE
TZID:Pacific/Auckland
LAST-MODIFIED:20070430T000000Z
BEGIN:STANDARD
COMMENT:New Zealand Time
DTSTART:20070430T000000Z
TZOFFSETFROM:+1300
TZOFFSETTO:+1200
RRULE:FREQ=YEARLY;BYDAY=1SU;BYMONTH=4
TZNAME:GMT+12:00
END:STANDARD
BEGIN:DAYLIGHT
COMMENT:New Zealand Time (Daylight Saving)
DTSTART:20070430T000000Z
TZOFFSETFROM:+1200
TZOFFSETTO:+1300
RRULE:FREQ=YEARLY;BYDAY=-1SU;BYMONTH=9
TZNAME:GMT+12:00
END:DAYLIGHT
END:VTIMEZONE
BEGIN:VEVENT
SEQUENCE:0
DESCRIPTION:No event summary supplied.
DTSTART;VALUE=DATE:20180126
DTEND;VALUE=DATE:20180127
SUMMARY:School office open
UID:00002daa-0000-0000-0000-000000000001
DTSTAMP:20171219T093054Z
TRANSP:TRANSPARENT
CATEGORIES:Calendar:Bradford School Calendar
X-ALT-DESC\;FMTTYPE=text/html:<!DOCTYPE html PUBLIC "-//W3C//DTD XHTML 1.0
  Transitional//EN" "http://www.w3.org/TR/xhtml1/DTD/xhtml1-transitional.dt
 d"><html><head><title>School office open</title></head><body><font face='T
 ahoma' size='2'><b>Calendar : </b>Bradford School Calendar<br / ><b>Create
 d by : </b>Melissa Mitchell-Bain<br / ><b>Title : </b>School office open<b
 r / ><br / >No event summary supplied.</font></body></html>
END:VEVENT
BEGIN:VEVENT
SEQUENCE:0
DESCRIPTION:No event summary supplied.
DTSTART;VALUE=DATE:20180129
DTEND;VALUE=DATE:20180130
SUMMARY:Term 1 begins
UID:00002da9-0000-0000-0000-000000000001
DTSTAMP:20171219T093040Z
TRANSP:TRANSPARENT
CATEGORIES:Calendar:Bradford School Calendar
X-ALT-DESC\;FMTTYPE=text/html:<!DOCTYPE html PUBLIC "-//W3C//DTD XHTML 1.0
  Transitional//EN" "http://www.w3.org/TR/xhtml1/DTD/xhtml1-transitional.dt
 d"><html><head><title>Term 1 begins</title></head><body><font face='Tahoma
 ' size='2'><b>Calendar : </b>Bradford School Calendar<br / ><b>Created by 
 : </b>Melissa Mitchell-Bain<br / ><b>Title : </b>Term 1 begins<br / ><br /
  >No event summary supplied.</font></body></html>
END:VEVENT
BEGIN:VEVENT
SEQUENCE:0
DESCRIPTION:No event summary supplied.
DTSTART;VALUE=DATE:20180202
DTEND;VALUE=DATE:20180203
SUMMARY:Rocky Shore Trip - Warrington
UID:00002db3-0000-0000-0000-000000000001
DTSTAMP:20171219T093425Z
TRANSP:TRANSPARENT
CATEGORIES:Calendar:Bradford School Calendar
X-ALT-DESC\;FMTTYPE=text/html:<!DOCTYPE html PUBLIC "-//W3C//DTD XHTML 1.0
  Transitional//EN" "http://www.w3.org/TR/xhtml1/DTD/xhtml1-transitional.dt
 d"><html><head><title>Rocky Shore Trip - Warrington</title></head><body><f
 ont face='Tahoma' size='2'><b>Calendar : </b>Bradford School Calendar<br /
  ><b>Created by : </b>Melissa Mitchell-Bain<br / ><b>Title : </b>Rocky Sho
 re Trip - Warrington<br / ><br / >No event summary supplied.</font></body>
 </html>
END:VEVENT
BEGIN:VEVENT
SEQUENCE:0
DESCRIPTION:No event summary supplied.
DTSTART;VALUE=DATE:20180206
DTEND;VALUE=DATE:20180207
SUMMARY:Waitangi Day - school closed
UID:00002dab-0000-0000-0000-000000000001
DTSTAMP:20171219T093108Z
TRANSP:TRANSPARENT
CATEGORIES:Calendar:Bradford School Calendar
X-ALT-DESC\;FMTTYPE=text/html:<!DOCTYPE html PUBLIC "-//W3C//DTD XHTML 1.0
  Transitional//EN" "http://www.w3.org/TR/xhtml1/DTD/xhtml1-transitional.dt
 d"><html><head><title>Waitangi Day - school closed</title></head><body><fo
 nt face='Tahoma' size='2'><b>Calendar : </b>Bradford School Calendar<br / 
 ><b>Created by : </b>Melissa Mitchell-Bain<br / ><b>Title : </b>Waitangi D
 ay - school closed<br / ><br / >No event summary supplied.</font></body></
 html>
END:VEVENT
BEGIN:VEVENT
SEQUENCE:0
DESCRIPTION:No event summary supplied.
DTSTART;VALUE=DATE:20180207
DTEND;VALUE=DATE:20180208
SUMMARY:Year 5/6 Leaders Day
UID:00002db0-0000-0000-0000-000000000001
DTSTAMP:20171219T093250Z
TRANSP:TRANSPARENT
CATEGORIES:Calendar:Bradford School Calendar
X-ALT-DESC\;FMTTYPE=text/html:<!DOCTYPE html PUBLIC "-//W3C//DTD XHTML 1.0
  Transitional//EN" "http://www.w3.org/TR/xhtml1/DTD/xhtml1-transitional.dt
 d"><html><head><title>Year 5/6 Leaders Day</title></head><body><font face=
 'Tahoma' size='2'><b>Calendar : </b>Bradford School Calendar<br / ><b>Crea
 ted by : </b>Melissa Mitchell-Bain<br / ><b>Title : </b>Year 5/6 Leaders D
 ay<br / ><br / >No event summary supplied.</font></body></html>
END:VEVENT
BEGIN:VEVENT
SEQUENCE:0
DESCRIPTION:No event summary supplied.
DTSTART;VALUE=DATE:20180208
DTEND;VALUE=DATE:20180209
SUMMARY:5:30pm  Meet the Teacher Family Picnic Night
UID:00002daf-0000-0000-0000-000000000001
DTSTAMP:20171219T093225Z
TRANSP:TRANSPARENT
CATEGORIES:Calendar:Bradford School Calendar
X-ALT-DESC\;FMTTYPE=text/html:<!DOCTYPE html PUBLIC "-//W3C//DTD XHTML 1.0
  Transitional//EN" "http://www.w3.org/TR/xhtml1/DTD/xhtml1-transitional.dt
 d"><html><head><title>5:30pm  Meet the Teacher Family Picnic Night</title>
 </head><body><font face='Tahoma' size='2'><b>Calendar : </b>Bradford Schoo
 l Calendar<br / ><b>Created by : </b>Melissa Mitchell-Bain<br / ><b>Title 
 : </b>5:30pm  Meet the Teacher Family Picnic Night<br / ><br / >No event s
 ummary supplied.</font></body></html>
END:VEVENT
BEGIN:VEVENT
SEQUENCE:0
DESCRIPTION:No event summary supplied.
DTSTART;VALUE=DATE:20180219
DTEND;VALUE=DATE:20180220
SUMMARY:Harold - Life Education Programme
UID:00002dac-0000-0000-0000-000000000001
DTSTAMP:20171219T093151Z
TRANSP:TRANSPARENT
CATEGORIES:Calendar:Bradford School Calendar
X-ALT-DESC\;FMTTYPE=text/html:<!DOCTYPE html PUBLIC "-//W3C//DTD XHTML 1.0
  Transitional//EN" "http://www.w3.org/TR/xhtml1/DTD/xhtml1-transitional.dt
 d"><html><head><title>Harold - Life Education Programme</title></head><bod
 y><font face='Tahoma' size='2'><b>Calendar : </b>Bradford School Calendar<
 br / ><b>Created by : </b>Melissa Mitchell-Bain<br / ><b>Title : </b>Harol
 d - Life Education Programme<br / ><br / >No event summary supplied.</font
 ></body></html>
END:VEVENT
BEGIN:VEVENT
SEQUENCE:0
DESCRIPTION:No event summary supplied.
DTSTART;VALUE=DATE:20180220
DTEND;VALUE=DATE:20180221
SUMMARY:Harold - Life Education Programme
UID:00002dad-0000-0000-0000-000000000001
DTSTAMP:20171219T093151Z
TRANSP:TRANSPARENT
CATEGORIES:Calendar:Bradford School Calendar
X-ALT-DESC\;FMTTYPE=text/html:<!DOCTYPE html PUBLIC "-//W3C//DTD XHTML 1.0
  Transitional//EN" "http://www.w3.org/TR/xhtml1/DTD/xhtml1-transitional.dt
 d"><html><head><title>Harold - Life Education Programme</title></head><bod
 y><font face='Tahoma' size='2'><b>Calendar : </b>Bradford School Calendar<
 br / ><b>Created by : </b>Melissa Mitchell-Bain<br / ><b>Title : </b>Harol
 d - Life Education Programme<br / ><br / >No event summary supplied.</font
 ></body></html>
END:VEVENT
BEGIN:VEVENT
SEQUENCE:0
DESCRIPTION:No event summary supplied.
DTSTART;VALUE=DATE:20180221
DTEND;VALUE=DATE:20180222
SUMMARY:Harold - Life Education Programme
UID:00002dae-0000-0000-0000-000000000001
DTSTAMP:20171219T093151Z
TRANSP:TRANSPARENT
CATEGORIES:Calendar:Bradford School Calendar
X-ALT-DESC\;FMTTYPE=text/html:<!DOCTYPE html PUBLIC "-//W3C//DTD XHTML 1.0
  Transitional//EN" "http://www.w3.org/TR/xhtml1/DTD/xhtml1-transitional.dt
 d"><html><head><title>Harold - Life Education Programme</title></head><bod
 y><font face='Tahoma' size='2'><b>Calendar : </b>Bradford School Calendar<
 br / ><b>Created by : </b>Melissa Mitchell-Bain<br / ><b>Title : </b>Harol
 d - Life Education Programme<br / ><br / >No event summary supplied.</font
 ></body></html>
END:VEVENT
BEGIN:VEVENT
SEQUENCE:0
DESCRIPTION:No event summary supplied.
DTSTART;VALUE=DATE:20180221
DTEND;VALUE=DATE:20180222
SUMMARY:6pm Board Meeting - staffroom
UID:00002db1-0000-0000-0000-000000000001
DTSTAMP:20171219T093318Z
TRANSP:TRANSPARENT
CATEGORIES:Calendar:Bradford School Calendar
X-ALT-DESC\;FMTTYPE=text/html:<!DOCTYPE html PUBLIC "-//W3C//DTD XHTML 1.0
  Transitional//EN" "http://www.w3.org/TR/xhtml1/DTD/xhtml1-transitional.dt
 d"><html><head><title>6pm Board Meeting - staffroom</title></head><body><f
 ont face='Tahoma' size='2'><b>Calendar : </b>Bradford School Calendar<br /
  ><b>Created by : </b>Melissa Mitchell-Bain<br / ><b>Title : </b>6pm Board
  Meeting - staffroom<br / ><br / >No event summary supplied.</font></body>
 </html>
END:VEVENT
END:VCALENDAR
